BEGIN:VCALENDAR
VERSION:2.0
PRODID:-//Squarespace Inc/Squarespace 6//v6//EN
BEGIN:VEVENT
UID:6135b5e424c4090b278e1419@squarespace.com
DTSTAMP:20210906T063733Z
DTSTART:20210910T130000Z
DTEND:20210910T134500Z
SUMMARY:#RoadtoUNGA Virtual Chat
END:VEVENT
END:VCALENDAR
