BEGIN:VCALENDAR
VERSION:2.0
PRODID:-//Squarespace Inc/Squarespace 6//v6//EN
BEGIN:VEVENT
UID:60d0fc9500c2a4103f083ece@squarespace.com
DTSTAMP:20210621T221318Z
DTSTART:20210624T140000Z
DTEND:20210624T150000Z
SUMMARY:Reporting on COVID-19 in Hard-Hit India
END:VEVENT
END:VCALENDAR
