BEGIN:VCALENDAR
VERSION:2.0
PRODID:-//Squarespace Inc/Squarespace 6//v6//EN
BEGIN:VEVENT
UID:5fc8c974d6e0cc37e3451ee1@squarespace.com
DTSTAMP:20201203T112517Z
DTSTART:20201208T070000Z
DTEND:20201208T080000Z
SUMMARY:Rebuilding Resilience 
END:VEVENT
END:VCALENDAR
