BEGIN:VCALENDAR
VERSION:2.0
PRODID:-//Squarespace Inc/Squarespace 6//v6//EN
BEGIN:VEVENT
UID:5fc8bbe3ec83506b04813b0b@squarespace.com
DTSTAMP:20201203T104236Z
DTSTART:20210113T120000Z
DTEND:20210113T133000Z
SUMMARY:Planning For A Brighter Future
END:VEVENT
END:VCALENDAR
