BEGIN:VCALENDAR
VERSION:2.0
PRODID:-//Squarespace Inc/Squarespace 6//v6//EN
BEGIN:VEVENT
UID:600aadaca5a872396bf7d91c@squarespace.com
DTSTAMP:20210122T110345Z
DTSTART:20210126T140000Z
DTEND:20210126T160000Z
SUMMARY:People of the Commonwealth: Critical Conversations
END:VEVENT
END:VCALENDAR
