BEGIN:VCALENDAR
VERSION:2.0
PRODID:-//Squarespace Inc/Squarespace 6//v6//EN
BEGIN:VEVENT
UID:601eb5987febbd1794d8d6d8@squarespace.com
DTSTAMP:20210206T153321Z
DTSTART:20210211T123000Z
DTEND:20210211T163000Z
SUMMARY:Operation Planetary Health
END:VEVENT
END:VCALENDAR
