BEGIN:VCALENDAR
VERSION:2.0
PRODID:-//Squarespace Inc/Squarespace 6//v6//EN
BEGIN:VEVENT
UID:6033a7dde9e4fb27eaca3e30@squarespace.com
DTSTAMP:20210222T132626Z
DTSTART:20210224T150000Z
DTEND:20210224T163000Z
SUMMARY:Open Data For National Statistics
END:VEVENT
END:VCALENDAR
