BEGIN:VCALENDAR
VERSION:2.0
PRODID:-//Squarespace Inc/Squarespace 6//v6//EN
BEGIN:VEVENT
UID:5fcff0b98c5f5c5f25ffe614@squarespace.com
DTSTAMP:20201208T214002Z
DTSTART:20201210T154500Z
DTEND:20201210T164500Z
SUMMARY:Online Violence: The New Frontline for Journalists
END:VEVENT
END:VCALENDAR
