BEGIN:VCALENDAR
VERSION:2.0
PRODID:-//Squarespace Inc/Squarespace 6//v6//EN
BEGIN:VEVENT
UID:601925ee283e585f52d4907c@squarespace.com
DTSTAMP:20210202T101805Z
DTSTART:20210219T150000Z
DTEND:20210219T160000Z
SUMMARY:One-on-One With UNGA President
END:VEVENT
END:VCALENDAR
