BEGIN:VCALENDAR
VERSION:2.0
PRODID:-//Squarespace Inc/Squarespace 6//v6//EN
BEGIN:VEVENT
UID:5fa3ca759c22a73ff235f649@squarespace.com
DTSTAMP:20201112T081047Z
DTSTART:20201113T120000Z
DTEND:20201113T140000Z
SUMMARY:Official Launch of SocialGood UK
GEO:40.720756;-74.000761
LOCATION:Online
END:VEVENT
END:VCALENDAR
