BEGIN:VCALENDAR
VERSION:2.0
PRODID:-//Squarespace Inc/Squarespace 6//v6//EN
BEGIN:VEVENT
UID:600e82eba2159228ba0e6ebd@squarespace.com
DTSTAMP:20210125T084119Z
DTSTART:20210126T200000Z
DTEND:20210128T000000Z
SUMMARY:Ocean-Climate Ambition Summit
END:VEVENT
END:VCALENDAR
