BEGIN:VCALENDAR
VERSION:2.0
PRODID:-//Squarespace Inc/Squarespace 6//v6//EN
BEGIN:VEVENT
UID:5fce13175177ea328ce9a763@squarespace.com
DTSTAMP:20201207T113816Z
DTSTART:20201210T150000Z
DTEND:20201210T160000Z
SUMMARY:Newsroom Management During A Pandemic
END:VEVENT
END:VCALENDAR
