BEGIN:VCALENDAR
VERSION:2.0
PRODID:-//Squarespace Inc/Squarespace 6//v6//EN
BEGIN:VEVENT
UID:608bd0acbf8b9e76e03ee852@squarespace.com
DTSTAMP:20210430T162642Z
DTSTART:20210511T150000Z
DTEND:20210527T170000Z
SUMMARY:NASA Training
END:VEVENT
END:VCALENDAR
