BEGIN:VCALENDAR
VERSION:2.0
PRODID:-//Squarespace Inc/Squarespace 6//v6//EN
BEGIN:VEVENT
UID:6177342d5379dc2f6279cf46@squarespace.com
DTSTAMP:20211025T225510Z
DTSTART:20211026T123000Z
DTEND:20211026T133000Z
SUMMARY:Launch - UN System-wide Dashboard on Gender Parity
END:VEVENT
END:VCALENDAR
