BEGIN:VCALENDAR
VERSION:2.0
PRODID:-//Squarespace Inc/Squarespace 6//v6//EN
BEGIN:VEVENT
UID:5ff439a2c2ef5e3c22e3534d@squarespace.com
DTSTAMP:20210105T100859Z
DTSTART:20210112T160000Z
DTEND:20210112T171500Z
SUMMARY:Behind The Mission
END:VEVENT
END:VCALENDAR
