BEGIN:VCALENDAR
VERSION:2.0
PRODID:-//Squarespace Inc/Squarespace 6//v6//EN
BEGIN:VEVENT
UID:5fbe38e708845d0924559c16@squarespace.com
DTSTAMP:20201125T112152Z
DTSTART:20201203T060000Z
DTEND:20201203T220000Z
SUMMARY:Making Global Goals Local Business
END:VEVENT
END:VCALENDAR
