BEGIN:VCALENDAR
VERSION:2.0
PRODID:-//Squarespace Inc/Squarespace 6//v6//EN
BEGIN:VEVENT
UID:5fce11cc662d5e24e0c94690@squarespace.com
DTSTAMP:20201207T113228Z
DTSTART:20201211T130000Z
DTEND:20201211T143000Z
SUMMARY:Lives In The Balance
END:VEVENT
END:VCALENDAR
