BEGIN:VCALENDAR
VERSION:2.0
PRODID:-//Squarespace Inc/Squarespace 6//v6//EN
BEGIN:VEVENT
UID:606b03910f29f30bfcc7c39a@squarespace.com
DTSTAMP:20210405T123946Z
DTSTART:20210408T170000Z
DTEND:20210408T180000Z
SUMMARY:Live QnA With Jeffrey Sachs
END:VEVENT
END:VCALENDAR
