BEGIN:VCALENDAR
VERSION:2.0
PRODID:-//Squarespace Inc/Squarespace 6//v6//EN
BEGIN:VEVENT
UID:5fce14a4fe657040d5b959f6@squarespace.com
DTSTAMP:20201207T114602Z
DTSTART:20201207T150000Z
DTEND:20201207T160000Z
SUMMARY:Live Chat : Virtual Leadership Initiative
END:VEVENT
END:VCALENDAR
