BEGIN:VCALENDAR
VERSION:2.0
PRODID:-//Squarespace Inc/Squarespace 6//v6//EN
BEGIN:VEVENT
UID:60d0f85f7fd76e29c0c5ed0f@squarespace.com
DTSTAMP:20210621T204138Z
DTSTART:20210629T140000Z
DTEND:20210629T150000Z
SUMMARY:Listening to Feminist Movements: Accountability for Gender Equality
END:VEVENT
END:VCALENDAR
