BEGIN:VCALENDAR
VERSION:2.0
PRODID:-//Squarespace Inc/Squarespace 6//v6//EN
BEGIN:VEVENT
UID:60e2dc666e14df1c1399e9bc@squarespace.com
DTSTAMP:20210705T102422Z
DTSTART:20210705T130000Z
DTEND:20210705T140000Z
SUMMARY:Learnings from Country-Level Pathways to the Global Food Policy Deb
 ate
END:VEVENT
END:VCALENDAR
