BEGIN:VCALENDAR
VERSION:2.0
PRODID:-//Squarespace Inc/Squarespace 6//v6//EN
BEGIN:VEVENT
UID:600e84f2372c1f28df09c1fb@squarespace.com
DTSTAMP:20210125T084908Z
DTSTART:20210125T130000Z
DTEND:20210125T145000Z
SUMMARY:Learning Outside the Box: Education During COVID-19
END:VEVENT
END:VCALENDAR
