BEGIN:VCALENDAR
VERSION:2.0
PRODID:-//Squarespace Inc/Squarespace 6//v6//EN
BEGIN:VEVENT
UID:609949c3e139c25ffc557a4a@squarespace.com
DTSTAMP:20210510T152321Z
DTSTART:20210511T150000Z
DTEND:20210514T220000Z
SUMMARY:Latin America and Caribbean Climate Week
END:VEVENT
END:VCALENDAR
