BEGIN:VCALENDAR
VERSION:2.0
PRODID:-//Squarespace Inc/Squarespace 6//v6//EN
BEGIN:VEVENT
UID:60be5e55d08dc87592145540@squarespace.com
DTSTAMP:20210607T181114Z
DTSTART:20210617T090000Z
DTEND:20210617T103000Z
SUMMARY:European Youth Forum
END:VEVENT
END:VCALENDAR
