BEGIN:VCALENDAR
VERSION:2.0
PRODID:-//Squarespace Inc/Squarespace 6//v6//EN
BEGIN:VEVENT
UID:6033a12a89cb75587284a9f1@squarespace.com
DTSTAMP:20210222T122418Z
DTSTART:20210225T100000Z
DTEND:20210225T120000Z
SUMMARY:Introduction to Digital Connectivity
END:VEVENT
END:VCALENDAR
