BEGIN:VCALENDAR
VERSION:2.0
PRODID:-//Squarespace Inc/Squarespace 6//v6//EN
BEGIN:VEVENT
UID:603cdf395e1da817afe66c9e@squarespace.com
DTSTAMP:20210301T202214Z
DTSTART:20210305T170000Z
DTEND:20210305T180000Z
SUMMARY:International Women's Day Forum
END:VEVENT
END:VCALENDAR
