BEGIN:VCALENDAR
VERSION:2.0
PRODID:-//Squarespace Inc/Squarespace 6//v6//EN
BEGIN:VEVENT
UID:60a2623cfd6d6520b2275e68@squarespace.com
DTSTAMP:20210517T123739Z
DTSTART:20210521T103000Z
DTEND:20210521T141500Z
SUMMARY:International Tea Day
END:VEVENT
END:VCALENDAR
