BEGIN:VCALENDAR
VERSION:2.0
PRODID:-//Squarespace Inc/Squarespace 6//v6//EN
BEGIN:VEVENT
UID:60e2e36c1b5b112f45432b83@squarespace.com
DTSTAMP:20210710T190655Z
DTSTART:20210708T120000Z
DTEND:20210708T130000Z
SUMMARY:Indigenous Knowledge and Equitable Climate Transitions
END:VEVENT
END:VCALENDAR
