BEGIN:VCALENDAR
VERSION:2.0
PRODID:-//Squarespace Inc/Squarespace 6//v6//EN
BEGIN:VEVENT
UID:6238f1ab9500ec5d8a643445@squarespace.com
DTSTAMP:20220321T215429Z
DTSTART:20220330T130000Z
DTEND:20220330T210000Z
SUMMARY:Inclusive Impact Summit
END:VEVENT
END:VCALENDAR
