BEGIN:VCALENDAR
VERSION:2.0
PRODID:-//Squarespace Inc/Squarespace 6//v6//EN
BEGIN:VEVENT
UID:60224106edfe235c98bac9d3@squarespace.com
DTSTAMP:20210209T080806Z
DTSTART:20210216T140000Z
DTEND:20210216T151500Z
SUMMARY:Inclusive Data Amid and Beyond COVID-19
END:VEVENT
END:VCALENDAR
