BEGIN:VCALENDAR
VERSION:2.0
PRODID:-//Squarespace Inc/Squarespace 6//v6//EN
BEGIN:VEVENT
UID:5fc7a34a6beae454316c99db@squarespace.com
DTSTAMP:20201202T142800Z
DTSTART:20201208T140000Z
DTEND:20201208T150000Z
SUMMARY:ILO Talks
END:VEVENT
END:VCALENDAR
