BEGIN:VCALENDAR
VERSION:2.0
PRODID:-//Squarespace Inc/Squarespace 6//v6//EN
BEGIN:VEVENT
UID:60880c9ceafc7a1f1626ea71@squarespace.com
DTSTAMP:20210427T131232Z
DTSTART:20210428T123000Z
DTEND:20210428T143000Z
SUMMARY:ILO High-Level Event
END:VEVENT
END:VCALENDAR
