BEGIN:VCALENDAR
VERSION:2.0
PRODID:-//Squarespace Inc/Squarespace 6//v6//EN
BEGIN:VEVENT
UID:5fcdf60a8a55f2188b9baf2a@squarespace.com
DTSTAMP:20201207T093334Z
DTSTART:20201207T160000Z
DTEND:20201207T170000Z
SUMMARY:Humanitarian Action - 2021 Overview
END:VEVENT
END:VCALENDAR
