BEGIN:VCALENDAR
VERSION:2.0
PRODID:-//Squarespace Inc/Squarespace 6//v6//EN
BEGIN:VEVENT
UID:608592a984071c56e0fff420@squarespace.com
DTSTAMP:20210425T165637Z
DTSTART:20210506T143000Z
DTEND:20210506T173500Z
SUMMARY:How Vicious Disinformation Campaigns Aim to Silence Women Journalis
 ts
END:VEVENT
END:VCALENDAR
