BEGIN:VCALENDAR
VERSION:2.0
PRODID:-//Squarespace Inc/Squarespace 6//v6//EN
BEGIN:VEVENT
UID:601eb184cc2902327dfc8dc0@squarespace.com
DTSTAMP:20210206T151456Z
DTSTART:20210218T150000Z
DTEND:20210218T160000Z
SUMMARY:How To Increase Gender balance in Boardrooms
END:VEVENT
END:VCALENDAR
