BEGIN:VCALENDAR
VERSION:2.0
PRODID:-//Squarespace Inc/Squarespace 6//v6//EN
BEGIN:VEVENT
UID:608bcc0e4f3fa61e90b97ea5@squarespace.com
DTSTAMP:20210430T093005Z
DTSTART:20210520T140000Z
DTEND:20210520T150000Z
SUMMARY:How To Improve Safety and Health In Global Supply Chains
END:VEVENT
END:VCALENDAR
