BEGIN:VCALENDAR
VERSION:2.0
PRODID:-//Squarespace Inc/Squarespace 6//v6//EN
BEGIN:VEVENT
UID:5fce089d7ae85b53b2b82438@squarespace.com
DTSTAMP:20201207T105338Z
DTSTART:20201209T153000Z
DTEND:20201209T180000Z
SUMMARY:High-Level Event on Youth\, Peace and Security
END:VEVENT
END:VCALENDAR
