BEGIN:VCALENDAR
VERSION:2.0
PRODID:-//Squarespace Inc/Squarespace 6//v6//EN
BEGIN:VEVENT
UID:5ffdf7cf0a107419d2538421@squarespace.com
DTSTAMP:20210112T192935Z
DTSTART:20210127T140000Z
DTEND:20210127T150000Z
SUMMARY:HDX Dataset Deepdive Webinar
END:VEVENT
END:VCALENDAR
