BEGIN:VCALENDAR
VERSION:2.0
PRODID:-//Squarespace Inc/Squarespace 6//v6//EN
BEGIN:VEVENT
UID:5fc8c1abe101942bf778304a@squarespace.com
DTSTAMP:20201203T104831Z
DTSTART:20201209T130000Z
DTEND:20201209T133000Z
SUMMARY:GSMA Live With Swrve
END:VEVENT
END:VCALENDAR
