BEGIN:VCALENDAR
VERSION:2.0
PRODID:-//Squarespace Inc/Squarespace 6//v6//EN
BEGIN:VEVENT
UID:608bce337d31341f3cd60384@squarespace.com
DTSTAMP:20210430T093821Z
DTSTART:20210602T100000Z
DTEND:20210603T200000Z
SUMMARY:Global Landscapes Forum - Restoring Africa's Drylands
END:VEVENT
END:VCALENDAR
