BEGIN:VCALENDAR
VERSION:2.0
PRODID:-//Squarespace Inc/Squarespace 6//v6//EN
BEGIN:VEVENT
UID:5facef1d44e821255393f575@squarespace.com
DTSTAMP:20201117T143419Z
DTSTART:20201216T170000Z
DTEND:20201216T230000Z
SUMMARY:Global Impact Gala
END:VEVENT
END:VCALENDAR
