BEGIN:VCALENDAR
VERSION:2.0
PRODID:-//Squarespace Inc/Squarespace 6//v6//EN
BEGIN:VEVENT
UID:61a5337fdb92b17c6ab203c8@squarespace.com
DTSTAMP:20211129T201925Z
DTSTART:20211130T130000Z
DTEND:20211201T160000Z
SUMMARY:Global Forum on AI for Children
END:VEVENT
END:VCALENDAR
