BEGIN:VCALENDAR
VERSION:2.0
PRODID:-//Squarespace Inc/Squarespace 6//v6//EN
BEGIN:VEVENT
UID:602237f80a40367f1a903165@squarespace.com
DTSTAMP:20210216T174105Z
DTSTART:20210219T170000Z
DTEND:20210220T000000Z
SUMMARY:Global Engagement Summit
END:VEVENT
END:VCALENDAR
