BEGIN:VCALENDAR
VERSION:2.0
PRODID:-//Squarespace Inc/Squarespace 6//v6//EN
BEGIN:VEVENT
UID:60e9fb4ef229ba2ea83f8cf8@squarespace.com
DTSTAMP:20210710T200738Z
DTSTART:20210713T140000Z
DTEND:20210714T170000Z
SUMMARY:GirlUp Leadership Summit
END:VEVENT
END:VCALENDAR
