BEGIN:VCALENDAR
VERSION:2.0
PRODID:-//Squarespace Inc/Squarespace 6//v6//EN
BEGIN:VEVENT
UID:606ae7294b304453da880783@squarespace.com
DTSTAMP:20210405T104222Z
DTSTART:20210406T143000Z
DTEND:20210406T160000Z
SUMMARY:Generation17- Partnering with today’s changemakers and innovating f
 or the SDGs
END:VEVENT
END:VCALENDAR
