BEGIN:VCALENDAR
VERSION:2.0
PRODID:-//Squarespace Inc/Squarespace 6//v6//EN
BEGIN:VEVENT
UID:6061c502e853a96bfdd88d89@squarespace.com
DTSTAMP:20210329T122634Z
DTSTART:20210329T130000Z
DTEND:20210331T190000Z
SUMMARY:Generation Equality Forum
END:VEVENT
END:VCALENDAR
