BEGIN:VCALENDAR
VERSION:2.0
PRODID:-//Squarespace Inc/Squarespace 6//v6//EN
BEGIN:VEVENT
UID:603cc501c029a67fb14f9b7c@squarespace.com
DTSTAMP:20210301T105412Z
DTSTART:20210303T133000Z
DTEND:20210304T173000Z
SUMMARY:Gender In Oil\, Gas and Mining Conference
END:VEVENT
END:VCALENDAR
