BEGIN:VCALENDAR
VERSION:2.0
PRODID:-//Squarespace Inc/Squarespace 6//v6//EN
BEGIN:VEVENT
UID:5fa3c43e28399e7d9427927c@squarespace.com
DTSTAMP:20201105T095715Z
DTSTART:20201112T170000Z
DTEND:20201112T180000Z
SUMMARY:Future of Development
GEO:40.720756;-74.000761
LOCATION:Online
END:VEVENT
END:VCALENDAR
