BEGIN:VCALENDAR
VERSION:2.0
PRODID:-//Squarespace Inc/Squarespace 6//v6//EN
BEGIN:VEVENT
UID:61773cce988ad60f87a9dd53@squarespace.com
DTSTAMP:20211025T233134Z
DTSTART:20211028T130000Z
DTEND:20211028T150500Z
SUMMARY:Fossil Fuel Taxes for Health
END:VEVENT
END:VCALENDAR
