BEGIN:VCALENDAR
VERSION:2.0
PRODID:-//Squarespace Inc/Squarespace 6//v6//EN
BEGIN:VEVENT
UID:60995c171ec9ac52c376ef1f@squarespace.com
DTSTAMP:20210510T163714Z
DTSTART:20210513T120000Z
DTEND:20210513T124500Z
SUMMARY:Food Banks\, the UN Food Systems Summit\, and the Future of Food
END:VEVENT
END:VCALENDAR
